BEGIN:VCALENDAR
VERSION:2.0
PRODID:icalendar-ruby
CALSCALE:GREGORIAN
BEGIN:VEVENT
DTSTAMP:20210301T030306Z
UID:31eb1145-36e4-41e5-91b9-58194d5f5b71
DTSTART;VALUE=DATE:20200721
DESCRIPTION:Property ID# 484344\, Time: 12:30PM
SUMMARY:Auction for 
END:VEVENT
END:VCALENDAR
