BEGIN:VCALENDAR
VERSION:2.0
PRODID:icalendar-ruby
CALSCALE:GREGORIAN
BEGIN:VEVENT
DTSTAMP:20210301T030142Z
UID:549bbb11-b7e0-4a74-b7c9-bdf5723a7902
DTSTART;VALUE=DATE:20210219
DESCRIPTION:Property ID# 502032\, Time: 12:30PM
SUMMARY:Auction for 
END:VEVENT
END:VCALENDAR
