BEGIN:VCALENDAR
VERSION:2.0
PRODID:icalendar-ruby
CALSCALE:GREGORIAN
BEGIN:VEVENT
DTSTAMP:20210301T030301Z
UID:347f3d42-547d-49dc-9dce-4cb6106c9636
DTSTART;TZID=Pacific/Auckland:20210228T134500
DTEND;TZID=Pacific/Auckland:20210228T141500
DESCRIPTION:Property ID# 502029
SUMMARY:Openhome for 83 Bird Grove
END:VEVENT
END:VCALENDAR
