BEGIN:VCALENDAR
VERSION:2.0
PRODID:icalendar-ruby
CALSCALE:GREGORIAN
BEGIN:VEVENT
DTSTAMP:20210301T030117Z
UID:ef295dd9-12e3-4b54-89ee-88fb864eb1c5
DTSTART;TZID=Pacific/Auckland:20210307T114500
DTEND;TZID=Pacific/Auckland:20210307T121500
DESCRIPTION:Property ID# 498744
SUMMARY:Openhome for 2/259 Major Drive
END:VEVENT
END:VCALENDAR
